BEGIN:VCALENDAR
VERSION:2.0
PRODID:-//Apnea Australia
CALSCALE:GREGORIAN
METHOD:PUBLISH
X-WR-CALNAME:Apnea Australia
X-ORIGINAL-URL:https://apneaaustralia.com.au/product/stage-b-freediver-3-days-northern-beaches-2/
X-WR-CALDESC:Stage B Freediver (3 days) &#8211; Northern beaches
BEGIN:VEVENT
DTSTART:20210320T083000
DTEND:20210327T140000
SUMMARY:Stage B Freediver (3 days) &#8211; Northern beaches
DESCRIPTION:Stage B Freediving Course will enable you to reach depths beyond recreational limits. You will learn advanced training techniques on land and in the water. We will work the mouth-fill equalisation technique so you can descend below residual volume of your lungs. Expected depth - 30m.

If you're an experienced diver, you'll learn skills that will take your freediving or spearfishing to the next level. Together, we'll work on the flexibility of your body and mind.

Minimum Age: 16

Days: 3

Open Water Training: 4 sessions

Pool Training : Static Session + Dynamic Session

Course results in an international certification from <a href="http://www.apnea-international.org/" target="_blank" rel="noopener noreferrer">Apnea International</a>

You will need to bring your own gear – mask, snorkel, fins, wetsuit, weight belt, socks &amp; gloves.

To do this course you should have completed Apnea Australia Stage A Course, or equivalent, and you must be healthy and comfortable in the water.
<h5 style="text-align: center"><span style="color: #00ccff">Please download a medical Declaration <strong><a style="color: #00ccff" href="https://apneaaustralia.wpengine.com/wp-content/uploads/2019/02/Freediving-Course-Forms-2019.pdf">HERE</a></strong> to make sure you are fit to do the course</span></h5>
URL:https://apneaaustralia.com.au/product/stage-b-freediver-3-days-northern-beaches-2/
LOCATION:1/539 Pittwater Rd, Brookvale (Sydney) NSW 2100, Australia
END:VEVENT
END:VCALENDAR
