BEGIN:VCALENDAR
VERSION:2.0
PRODID:-//Apnea Australia
CALSCALE:GREGORIAN
METHOD:PUBLISH
X-WR-CALNAME:Apnea Australia
X-ORIGINAL-URL:https://apneaaustralia.com.au/product/stage-a-freediving-newcastle-copy/
X-WR-CALDESC:Stage A Freediving &#8211; Newcastle &#8211; full
BEGIN:VEVENT
DTSTART:20210313T080000
DTEND:20210314T160000
SUMMARY:Stage A Freediving &#8211; Newcastle &#8211; full
DESCRIPTION:Stage A Freediving Course is the introduction to the purest form of diving. You'll learn about the importance of breathing, physiology of a breath-hold and how to train breath-holding safely. Expected depth - 5m - 15m

If you're an experienced diver, you'll learn skills that will take your freediving or spearfishing to the next level. Together, we'll work on the flexibility of your body and mind.

No cash? No worries! Contact me directly to arrange 3 monthly payments ($184 x 3) before the Course. So what are you waiting for? DIVE IN! :)

Minimum Age: 16 (13 with Parental consent)

Open Water Training: 2 sessions

Pool Training: Static Session + Dynamic Session

Course results in an international certification from <a href="http://www.apnea-international.org/" target="_blank" rel="noopener noreferrer">Apnea International</a>

You will need to bring your own gear – mask, snorkel, fins, wetsuit, weight belt, socks &amp; gloves. The gear does not have to be freediving gear but it is recommended.

If you do not have gear – please notify your instructor before the course so that he could provide you with options.

To do this course you must be comfortable in the water and healthy.
<h5 style="text-align: center;"><span style="color: #00ccff;">Please download a medical Declaration <strong><a style="color: #00ccff;" href="https://apneaaustralia.wpengine.com/wp-content/uploads/2019/02/Freediving-Course-Forms-2019.pdf">HERE</a></strong> to make sure you are fit to do the course</span></h5>
URL:https://apneaaustralia.com.au/product/stage-a-freediving-newcastle-copy/
LOCATION:West Wallsend Pool, Edden Street / Nelson Bay
END:VEVENT
END:VCALENDAR
