BEGIN:VCALENDAR
VERSION:2.0
PRODID:-//Apnea Australia
CALSCALE:GREGORIAN
METHOD:PUBLISH
X-WR-CALNAME:Apnea Australia
X-ORIGINAL-URL:https://apneaaustralia.com.au/product/stage-a-freediving-manly-sydney-copy/
X-WR-CALDESC:Stage A Freediving &#8211; Northern beaches , Sydney
BEGIN:VEVENT
DTSTART:20200711T083000
DTEND:20200712T150000
SUMMARY:Stage A Freediving &#8211; Northern beaches , Sydney
DESCRIPTION:Stage A Freediving Course is the introduction to the purest form of diving. You'll learn about the importance of breathing, physiology of a breath-hold and how to train breath-holding safely. Expected depth - up to 20m.

If you're an experienced diver, you'll learn skills that will take your freediving or spearfishing to the next level. Together, we'll work on the flexibility of your body and mind.

Minimum Age: 16 (13 with Parental consent)

Open Water Training: 2 sessions

Pool Training: Static Session + Dynamic Session

Course results in an international certification from <a href="http://www.apnea-international.org/" target="_blank" rel="noopener noreferrer">Apnea International</a>

You will need to bring your own gear – mask, snorkel, fins, wetsuit, weight belt, socks &amp; gloves. The gear does not have to be freediving gear but it is recommended.

If you do not have gear – please notify your instructor before the course so that he could provide you with options.

To do this course you must be comfortable in the water and healthy.
<h5 style="text-align: center"><span style="color: #00ccff">Please download a medical Declaration <strong><a style="color: #00ccff" href="https://apneaaustralia.wpengine.com/wp-content/uploads/2019/02/Freediving-Course-Forms-2019.pdf">HERE</a></strong> to make sure you are fit to do the course</span></h5>
URL:https://apneaaustralia.com.au/product/stage-a-freediving-manly-sydney-copy/
LOCATION:1/539 Pittwater Rd, Brookvale (Sydney) NSW 2100, Australia
END:VEVENT
END:VCALENDAR
